BEGIN:VCALENDAR
VERSION:2.0
PRODID:-//SISUMMIT//PROGRAM//TR
BEGIN:VEVENT
SUMMARY:Zirve ve Sertifika Töreni Kayıt
DESCRIPTION:
 https://sisummit.com.tr/tr/program/surdurulebilirlik-ve-inovasyon-seminerleri/zirve-ve-sertifika-toreni-kayit/8A85AC7C
DTSTART:20251120T053000Z
DTEND:20251120T060000Z
LOCATION:Albert Long Hall | Boğaziçi Üniversitesi
END:VEVENT
BEGIN:VEVENT
SUMMARY:Master of Ceremony
DESCRIPTION:
 https://sisummit.com.tr/tr/program/surdurulebilirlik-ve-inovasyon-seminerleri/master-of-ceremony/BC1DA823
DTSTART:20251120T060000Z
DTEND:20251120T060500Z
LOCATION:Albert Long Hall | Boğaziçi Üniversitesi
END:VEVENT
BEGIN:VEVENT
SUMMARY:Takdim Konuşması
DESCRIPTION:
 https://sisummit.com.tr/tr/program/surdurulebilirlik-ve-inovasyon-seminerleri/takdim-konusmasi/602E3A9F
DTSTART:20251120T060500Z
DTEND:20251120T061000Z
LOCATION:Albert Long Hall | Boğaziçi Üniversitesi
END:VEVENT
BEGIN:VEVENT
SUMMARY:Açılış Konuşması - AI Act Sonrası: İnovasyonun Yeni Anayasası
DESCRIPTION:AB Yapay Zekâ Yasası (AI Act), güveni ve rekabetçiliği aynı denklemde yeniden tanımlıyor: “uyum” artık fren değil, inovasyonun hız şeridi.
 https://sisummit.com.tr/tr/program/surdurulebilirlik-ve-inovasyon-seminerleri/acilis-konusmasi-ai-act-sonrasi-inovasyonun-yeni-anayasasi/2ED8F3B9
DTSTART:20251120T061000Z
DTEND:20251120T062000Z
LOCATION:Albert Long Hall | Boğaziçi Üniversitesi
END:VEVENT
BEGIN:VEVENT
SUMMARY:Panel - Akışın Zekâsı: Endüstri, Telekom ve Lojistikte Etik ve Sorumlu AI ile Sürdürülebilir Operasyon
DESCRIPTION:Bu açılış paneli, birbirine bağlanan üretim hatları, telekom ağları ve tedarik zincirlerinde etik ve sorumlu yapay zekânın nasıl sürdürülebilir etki ürettiğini tartışıyor.
 https://sisummit.com.tr/tr/program/surdurulebilirlik-ve-inovasyon-seminerleri/panel-akisin-zekasi-endustri-telekom-ve-lojistikte-etik-ve-sorumlu-ai-ile-surdurulebilir-operasyon/F89D5174
DTSTART:20251120T062000Z
DTEND:20250120T065000Z
LOCATION:Albert Long Hall | Boğaziçi Üniversitesi
END:VEVENT
BEGIN:VEVENT
SUMMARY:Turkcell Yapay Zeka Stratejileri & Kabiliyetleri
DESCRIPTION:Turkcell olarak yapay zekayı sadece bir teknoloji değil, sürdürülebilir büyümenin ve inovasyonun temel kaldıraçlarından biri olarak görüyoruz.
 https://sisummit.com.tr/tr/program/surdurulebilirlik-ve-inovasyon-seminerleri/turkcell-yapay-zeka-stratejileri-kabiliyetleri/38FC1058
DTSTART:20251120T065000Z
DTEND:20251120T071000Z
LOCATION:Albert Long Hall | Boğaziçi Üniversitesi
END:VEVENT
BEGIN:VEVENT
SUMMARY:Panel - Yetenek 360°: Etik ve Sorumlu Yapay Zekâ ile İnsan Kaynaklarında Sürdürülebilir Etki
DESCRIPTION:Bu panel, işe alımın ilk temasından iç mobiliteye, yetkinlik geliştirmeden bağlılık ve ödüllendirmeye kadar tüm İK yaşam döngüsünde yapay zekânın nasıl etik ve sorumlu şekilde konumlandırılacağını ele alıyor. 
 https://sisummit.com.tr/tr/program/surdurulebilirlik-ve-inovasyon-seminerleri/panel-yetenek-360-etik-ve-sorumlu-yapay-zeka-ile-insan-kaynaklarinda-surdurulebilir-etki/4B0B23D8
DTSTART:20251120T071000Z
DTEND:20251120T074000Z
LOCATION:Albert Long Hall | Boğaziçi Üniversitesi
END:VEVENT
BEGIN:VEVENT
SUMMARY:Dinlenme Arası
DESCRIPTION:
 https://sisummit.com.tr/tr/program/surdurulebilirlik-ve-inovasyon-seminerleri/dinlenme-arasi/691F151C
DTSTART:20251120T074000Z
DTEND:20251120T080000Z
LOCATION:Albert Long Hall | Boğaziçi Üniversitesi
END:VEVENT
BEGIN:VEVENT
SUMMARY:Panel - Garajdan Gezegene: Etik ve Sorumlu Yapay Zekâ ile Sürdürülebilir Etkiyi Ölçeklemek
DESCRIPTION:
 https://sisummit.com.tr/tr/program/surdurulebilirlik-ve-inovasyon-seminerleri/panel-garajdan-gezegene-etik-ve-sorumlu-yapay-zeka-ile-surdurulebilir-etkiyi-olceklemek/71622C49
DTSTART:20251120T080000Z
DTEND:20251120T083000Z
LOCATION:Albert Long Hall | Boğaziçi Üniversitesi
END:VEVENT
BEGIN:VEVENT
SUMMARY:Keynote - Yapay Zekânın Ritmi: Doğru Yönetişimle Stratejiden Kalıcı Değere
DESCRIPTION:Bu keynote, yapay zekâyı “bir teknoloji” olmaktan çıkarıp kurumsal ritme dönüştürmenin pratik çerçevesini sunar.
 https://sisummit.com.tr/tr/program/surdurulebilirlik-ve-inovasyon-seminerleri/keynote-yapay-zekanin-ritmi-dogru-yonetisimle-stratejiden-kalici-degere/F1DADCAE
DTSTART:20251120T083000Z
DTEND:20251120T085000Z
LOCATION:Albert Long Hall | Boğaziçi Üniversitesi
END:VEVENT
BEGIN:VEVENT
SUMMARY:Panel - Zihin, Harita, Dönüşüm: Etik ve Sorumlu Yapay Zekâ ile İnsan Odaklı Yenilik
DESCRIPTION:Bu panel, insan davranışı (nörobilim), yer-zaman bağlamı (jeo-uzamsal veri) ve kurumsal dönüşüm eksenlerini birleştirerek yapay zekânın nasıl sürdürülebilir, adil ve ölçülebilir etkiye dönüştürülebileceğini tartışır.
 https://sisummit.com.tr/tr/program/surdurulebilirlik-ve-inovasyon-seminerleri/panel-zihin-harita-donusum-etik-ve-sorumlu-yapay-zeka-ile-insan-odakli-yenilik/E1834947
DTSTART:20251120T085000Z
DTEND:20251120T092000Z
LOCATION:Albert Long Hall | Boğaziçi Üniversitesi
END:VEVENT
BEGIN:VEVENT
SUMMARY:Öğle Arası
DESCRIPTION:
 https://sisummit.com.tr/tr/program/surdurulebilirlik-ve-inovasyon-seminerleri/ogle-arasi/2851CD1A
DTSTART:20251120T092000Z
DTEND:20251120T100000Z
LOCATION:Albert Long Hall | Boğaziçi Üniversitesi
END:VEVENT
BEGIN:VEVENT
SUMMARY:Panel - Kurul Odasından Sahaya: C-Suite İçin Etik ve Sorumlu Yapay Zekâ ile Büyümeyi Yönetmek
DESCRIPTION:Bu panel, üst yönetim masasında kurulan vizyonun sahada ölçülebilir değere dönüşmesi için strateji, yönetişim ve mimariyi tek bir çerçevede buluşturur.
 https://sisummit.com.tr/tr/program/surdurulebilirlik-ve-inovasyon-seminerleri/panel-kurul-odasindan-sahaya-c-suite-icin-etik-ve-sorumlu-yapay-zeka-ile-buyumeyi-yonetmek/11284571
DTSTART:20251120T100000Z
DTEND:20251120T103000Z
LOCATION:Albert Long Hall | Boğaziçi Üniversitesi
END:VEVENT
BEGIN:VEVENT
SUMMARY:Keynote - Kodu ve Kuralı Birleştirmek: Etik ve Sorumlu Yapay Zekâ için Strateji, Yönetişim ve Etki
DESCRIPTION:Bu keynote, yapay zekânın gerçek iş sonuçlarına dönüşmesini sağlayan strateji–yönetişim–uyum üçlüsünü aynı çerçevede ele alır.
 https://sisummit.com.tr/tr/program/surdurulebilirlik-ve-inovasyon-seminerleri/keynote-kodu-ve-kurali-birlestirmek-etik-ve-sorumlu-yapay-zeka-icin-strateji-yonetisim-ve-etki/072E3548
DTSTART:20251120T103000Z
DTEND:20251120T105000Z
LOCATION:Albert Long Hall | Boğaziçi Üniversitesi
END:VEVENT
BEGIN:VEVENT
SUMMARY:Panel - Değer Tasarımından Büyümeye: Etik ve Sorumlu Yapay Zekâ ile Stratejiyi Ölçeklemek
DESCRIPTION:Bu panel, değer teziyle (value proposition) başlayan yolculuğun nasıl bir operasyon modeline ve ölçeklenebilir büyümeye dönüştürüleceğini anlatır.
 https://sisummit.com.tr/tr/program/surdurulebilirlik-ve-inovasyon-seminerleri/panel-deger-tasarimindan-buyumeye-etik-ve-sorumlu-yapay-zeka-ile-stratejiyi-olceklemek/BEF70BF6
DTSTART:20251120T105000Z
DTEND:20251120T112000Z
LOCATION:Albert Long Hall | Boğaziçi Üniversitesi
END:VEVENT
BEGIN:VEVENT
SUMMARY:Dinlenme Arası
DESCRIPTION:
 https://sisummit.com.tr/tr/program/surdurulebilirlik-ve-inovasyon-seminerleri/dinlenme-arasi/866F208D
DTSTART:20251120T112000Z
DTEND:20251120T114000Z
LOCATION:Albert Long Hall | Boğaziçi Üniversitesi
END:VEVENT
BEGIN:VEVENT
SUMMARY:Keynote - Hikaye 2.0: Markanız ve Bugün Doğan Çocuklar
DESCRIPTION:Hikâyenin başladığı bu topraklara, yağmurlu bir sabahın alacakaranlığında tek başıma adım attım.
 https://sisummit.com.tr/tr/program/surdurulebilirlik-ve-inovasyon-seminerleri/keynote-hikaye-2-0-markaniz-ve-bugun-dogan-cocuklar/AC376D12
DTSTART:20251120T114000Z
DTEND:20251120T120000Z
LOCATION:Albert Long Hall | Boğaziçi Üniversitesi
END:VEVENT
BEGIN:VEVENT
SUMMARY:Mizahla Farkındalık
DESCRIPTION:Mizah, yoğun dönüşüm dönemlerinde hem ekiplerin dayanıklılığını artıran hem de yaratıcılığı tetikleyen en “doğal” yenilik motorlarından biridir.
 https://sisummit.com.tr/tr/program/surdurulebilirlik-ve-inovasyon-seminerleri/mizahla-farkindalik/707EB1DD
DTSTART:20251120T120000Z
DTEND:20251120T122000Z
LOCATION:Albert Long Hall | Boğaziçi Üniversitesi
END:VEVENT
BEGIN:VEVENT
SUMMARY:Sürdürülebilir Bir Dünya için Güldürülebilirlik
DESCRIPTION:İş’te mizah, yoğun dönüşüm dönemlerinde hem ekiplerin dayanıklılığını artıran hem de yaratıcılığı tetikleyen en “doğal” yenilik motorlarından biridir.
 https://sisummit.com.tr/tr/program/surdurulebilirlik-ve-inovasyon-seminerleri/surdurulebilir-bir-dunya-icin-guldurulebilirlik/3AD75B9A
DTSTART:20251120T122000Z
DTEND:20251120T124000Z
LOCATION:Albert Long Hall | Boğaziçi Üniversitesi
END:VEVENT
BEGIN:VEVENT
SUMMARY:Sertifika Takdim Töreni
DESCRIPTION:
 https://sisummit.com.tr/tr/program/surdurulebilirlik-ve-inovasyon-seminerleri/sertifika-takdim-toreni/643AB41A
DTSTART:20251120T124000Z
DTEND:20251120T140000Z
LOCATION:Albert Long Hall | Boğaziçi Üniversitesi
END:VEVENT
BEGIN:VEVENT
SUMMARY:Anlam Mimarisi: Dijital Kapitalizmin Kültür Uzayında Yapay Zekâ Stratejileri
DESCRIPTION:Bu oturum, dijital kapitalizmin kültürel dinamikleri ile yapay zekâ stratejilerinin nasıl kesiştiğini tartışır. Anlam üretimi (narrative), değer mimarisi ve kurumsal konumlandırma üzerinden AI yatırımlarını “teknoloji projesi” olmaktan çıkarıp “stratejik anlam tasarımı”na dönüştürmeyi hedefleyen bir bakış sunar.
 https://sisummit.com.tr/tr/program/surdurulebilirlik-ve-inovasyon-seminerleri/anlam-mimarisi-dijital-kapitalizmin-kultur-uzayinda-yapay-zeka-stratejileri/35D9663D
DTSTART:20251028T170000Z
DTEND:20251028T190000Z
LOCATION:Youtube Noform Academy Kanalı | Noform Academy
END:VEVENT
BEGIN:VEVENT
SUMMARY:Sürdürülebilirlik Verileri: Mimari, Kalite, Yönetişim ve Etki
DESCRIPTION:Sürdürülebilirlik verisinin uçtan uca yaşam döngüsü: kaynak, standart, kalite, yönetişim ve etki ölçümü. Veri mimarisini sade çerçevelerle ele alarak raporlama gereksinimleriyle iş değeri üretimini birleştiren pratik bir yaklaşım sunar.
 https://sisummit.com.tr/tr/program/surdurulebilirlik-ve-inovasyon-seminerleri/surdurulebilirlik-verileri-mimari-kalite-yonetisim-ve-etki/2D4935B6
DTSTART:20251030T170000Z
DTEND:20251030T190000Z
LOCATION:Youtube Noform Academy Kanalı | Noform Academy
END:VEVENT
BEGIN:VEVENT
SUMMARY:Teknoloji Değil Kabiliyet: AI-Ready Organizasyonlar için Strateji, Çeviklik ve Yönetişim
DESCRIPTION:Teknoloji yığınından önce kurumsal kabiliyetleri inşa etmeyi merkeze alır: strateji–yapı–süreç–kültür uyumu, çevik çalışma biçimleri ve sorumlu AI yönetişimiyle “AI-ready” olma hâlini tanımlar.
 https://sisummit.com.tr/tr/program/surdurulebilirlik-ve-inovasyon-seminerleri/teknoloji-degil-kabiliyet-ai-ready-organizasyonlar-icin-strateji-ceviklik-ve-yonetisim/E75826FF
DTSTART:20251104T170000Z
DTEND:20251104T190000Z
LOCATION:Youtube Noform Academy Kanalı | Noform Academy
END:VEVENT
BEGIN:VEVENT
SUMMARY:Sürdürülebilir Dönüşümün Mimarisi: Endüstri, Lojistik ve Yapay Zekâyı Birlikte Düşünmek
DESCRIPTION:Endüstri ve lojistikte sürdürülebilir dönüşümü AI ile birlikte ele alır. Operasyonel verimlilik, kaynak kullanımı ve dayanıklılık hedefleriyle uyumlu, gerçekçi ve aşamalı bir dönüşüm çerçevesi sunar.
 https://sisummit.com.tr/tr/program/surdurulebilirlik-ve-inovasyon-seminerleri/surdurulebilir-donusumun-mimarisi-endustri-lojistik-ve-yapay-zekayi-birlikte-dusunmek/32ADA449
DTSTART:20251106T170000Z
DTEND:20251106T190000Z
LOCATION:Youtube Noform Academy Kanalı | Noform Academy
END:VEVENT
BEGIN:VEVENT
SUMMARY:Yapay Zeka İnovasyon Yapabilir mi? İnovasyon Yöneticilerini Yerinden Edebilir mi?
DESCRIPTION:AI’ı fikir üretimi, problem tanımı, çözüm tasarımı ve ölçeklemeye uzanan inovasyon akışının parçası olarak ele alır. Yaratıcılık ile uygulanabilirliği buluşturan araçlar ve pratikler ön plana çıkar.
 https://sisummit.com.tr/tr/program/surdurulebilirlik-ve-inovasyon-seminerleri/yapay-zeka-inovasyon-yapabilir-mi-inovasyon-yoneticilerini-yerinden-edebilir-mi/B7A48D68
DTSTART:20251108T080000Z
DTEND:20251108T100000Z
LOCATION:Youtube Noform Academy Kanalı | Noform Academy
END:VEVENT
BEGIN:VEVENT
SUMMARY:Kendi İnovasyon Yolunu Çiz: Teori, Uygulama ve İlham
DESCRIPTION:Katılımcıyı merkeze alan bu oturum, kişisel/kurumsal inovasyon yolculuğunu somutlaştırır. Teoriyi sadeleştirir, uygulamayı adımlara böler, ilhamı da örnekler ve mini atölyelerle destekler.
 https://sisummit.com.tr/tr/program/surdurulebilirlik-ve-inovasyon-seminerleri/kendi-inovasyon-yolunu-ciz-teori-uygulama-ve-ilham/568464A0
DTSTART:20251111T170000Z
DTEND:20251111T190000Z
LOCATION:Youtube Noform Academy Kanalı | Noform Academy
END:VEVENT
BEGIN:VEVENT
SUMMARY:Kurumsal Dayanıklılıkta Yapay Zekâ: Strateji, Yönetişim ve Organizasyon Tasarımı
DESCRIPTION:Kurumsal dayanıklılığı (resilience) artırmak için AI’ın nasıl konumlanacağını strateji, yönetişim ve organizasyon tasarımı üzerinden işler. Riskleri öngören, esnek ve öğrenen yapılar için pratik ilkeler sunar.
 https://sisummit.com.tr/tr/program/surdurulebilirlik-ve-inovasyon-seminerleri/kurumsal-dayaniklilikta-yapay-zeka-strateji-yonetisim-ve-organizasyon-tasarimi/8D4F2D8E
DTSTART:20251113T170000Z
DTEND:20251113T190000Z
LOCATION:Youtube Noform Academy Kanalı | Noform Academy
END:VEVENT
BEGIN:VEVENT
SUMMARY:Dijital Post-Modernizm Eşiğinde Yapay Zekâ ve Yeni Başlayan Tarih
DESCRIPTION:Dijital post-modernizmin parçalı, hızlanan ve çoğulcu dünyasında yapay zekânın bilgi, hakikat ve otorite kavrayışlarını nasıl dönüştürdüğünü tartışır; katılımcıya eleştirel ama yapıcı bir yön bulma çerçevesi sağlar.
 https://sisummit.com.tr/tr/program/surdurulebilirlik-ve-inovasyon-seminerleri/dijital-post-modernizm-esiginde-yapay-zeka-ve-yeni-baslayan-tarih/8BF91757
DTSTART:20251115T170000Z
DTEND:20251115T190000Z
LOCATION:Youtube Noform Academy Kanalı | Noform Academy
END:VEVENT
END:VCALENDAR
